BEGIN:VCALENDAR
PRODID:-//TYPO3/NONSGML News system (news)//DE 2
VERSION:2.0
METHOD:PUBLISH
BEGIN:VEVENT
DTSTAMP:20260223T134914Z
DTSTART;TZID="W. Europe Standard Time":20260501T110000
DTEND;TZID="W. Europe Standard Time":20260501T130000
SEQUENCE:0
ORGANIZER:Kirchgemeinde Bätterkinden
CLASS:PUBLIC
SUMMARY:Mittagessen für Seniorinnen und Senioren
DESCRIPTION:\n\nOrganisator: Kirchgemeinde Bätterkinden\n\n
LOCATION:Restaurant Trattoria Leone, Bätterkinden
END:VEVENT
END:VCALENDAR